BEGIN:VCALENDAR
VERSION:2.0
PRODID:-//Grace Campbell - ECPv6.15.20//NONSGML v1.0//EN
CALSCALE:GREGORIAN
METHOD:PUBLISH
X-WR-CALNAME:Grace Campbell
X-ORIGINAL-URL:https://gracecampbellmusic.com
X-WR-CALDESC:Events for Grace Campbell
REFRESH-INTERVAL;VALUE=DURATION:PT1H
X-Robots-Tag:noindex
X-PUBLISHED-TTL:PT1H
BEGIN:VTIMEZONE
TZID:America/New_York
BEGIN:DAYLIGHT
TZOFFSETFROM:-0500
TZOFFSETTO:-0400
TZNAME:EDT
DTSTART:20230312T070000
END:DAYLIGHT
BEGIN:STANDARD
TZOFFSETFROM:-0400
TZOFFSETTO:-0500
TZNAME:EST
DTSTART:20231105T060000
END:STANDARD
BEGIN:DAYLIGHT
TZOFFSETFROM:-0500
TZOFFSETTO:-0400
TZNAME:EDT
DTSTART:20240310T070000
END:DAYLIGHT
BEGIN:STANDARD
TZOFFSETFROM:-0400
TZOFFSETTO:-0500
TZNAME:EST
DTSTART:20241103T060000
END:STANDARD
BEGIN:DAYLIGHT
TZOFFSETFROM:-0500
TZOFFSETTO:-0400
TZNAME:EDT
DTSTART:20250309T070000
END:DAYLIGHT
BEGIN:STANDARD
TZOFFSETFROM:-0400
TZOFFSETTO:-0500
TZNAME:EST
DTSTART:20251102T060000
END:STANDARD
BEGIN:DAYLIGHT
TZOFFSETFROM:-0500
TZOFFSETTO:-0400
TZNAME:EDT
DTSTART:20260308T070000
END:DAYLIGHT
BEGIN:STANDARD
TZOFFSETFROM:-0400
TZOFFSETTO:-0500
TZNAME:EST
DTSTART:20261101T060000
END:STANDARD
END:VTIMEZONE
BEGIN:VEVENT
DTSTART;TZID=America/New_York:20250517T000000
DTEND;TZID=America/New_York:20250517T235959
DTSTAMP:20260424T083731
CREATED:20250128T150103Z
LAST-MODIFIED:20250128T150103Z
UID:908-1747440000-1747526399@gracecampbellmusic.com
SUMMARY:West Virginia Strawberry Festival with Grace Campbell
DESCRIPTION:Welcome to the West Virginia Strawberry Festival\, a cherished celebration of community\, tradition\, and the sweet bounty of our region. Since its inception in 1936\, the festival has grown into a beloved annual event\, drawing visitors from near and far to experience the unique charm and hospitality of Buckhannon\, West Virginia. \nThe West Virginia Strawberry Festival was born from a simple yet heartfelt idea: to honor the hardworking farmers of our region and celebrate the strawberry harvest that plays such a vital role in our local economy. What started as a small community gathering has blossomed into one of the state’s most anticipated events\, spanning an entire week each May with a rich array of activities and entertainment. \nJoin Grace Campbell and Good Company as they take the stage at WV’s famed Strawberry Festival. https://wvstrawberryfestival.com/
URL:https://gracecampbellmusic.com/event/west-virginia-strawberry-festival-with-grace-campbell/
CATEGORIES:Festival,Opening Spot
END:VEVENT
BEGIN:VEVENT
DTSTART;TZID=America/New_York:20250511T100000
DTEND;TZID=America/New_York:20250511T140000
DTSTAMP:20260424T083731
CREATED:20250505T135728Z
LAST-MODIFIED:20250506T191330Z
UID:1155-1746957600-1746972000@gracecampbellmusic.com
SUMMARY:Mother's Day Market
DESCRIPTION:Treat your mom to a Women-Owned Market out front of City Winery Pittsburgh\, featuring live music from Singer-Songwriter Grace Campbell\, or stop in to City Winery to catch 2 different shows presented by Women Who Rock\, with dynamic female performers\, as well as grabbing brunch\, dinner\, and of course\, wine!
URL:https://gracecampbellmusic.com/event/mothers-day-market/
CATEGORIES:Festival
END:VEVENT
BEGIN:VEVENT
DTSTART;TZID=America/New_York:20250510T200000
DTEND;TZID=America/New_York:20250510T230000
DTSTAMP:20260424T083731
CREATED:20250505T135235Z
LAST-MODIFIED:20250505T135539Z
UID:1152-1746907200-1746918000@gracecampbellmusic.com
SUMMARY:Gene's Beer Garden
DESCRIPTION:Grace Campbell brings original music and upbeat songs to Gene’s Beer Garden on May 10th\, 2025. \nGene’s Place is the oldest running beer garden in Morgantown – started in 1944. Gene’s has always been known for their famous hotdog (best in Morgantown)\, cold beer\, as well as friendly staff and regulars. \nGene’s also features a great venue for some of the best live music in Morgantown! Al Bonner\, owner and operator\, took over Gene’s from the original owners\, the Perilli Family\, in 1985. Gene’s is tucked away in the Greenmont neighborhood of Morgantown. \nWalking into Gene’s is like taking a step back in time. The environment is always friendly and you’ll feel like a regular immediately. If you’re looking for a great place to relax\, listen to music\, watch games and hear/tell great stories\, you’ll love Gene’s.
URL:https://gracecampbellmusic.com/event/genes-beer-garden/
CATEGORIES:Bar Show
END:VEVENT
BEGIN:VEVENT
DTSTART;TZID=America/New_York:20250509T200000
DTEND;TZID=America/New_York:20250509T200000
DTSTAMP:20260424T083731
CREATED:20250505T134759Z
LAST-MODIFIED:20250505T134939Z
UID:1149-1746820800-1746820800@gracecampbellmusic.com
SUMMARY:Voodoo Brewing\, Houston PA
DESCRIPTION:Live music at Voodoo Brewing starting at 8pm! Solo acoustic.
URL:https://gracecampbellmusic.com/event/voodoo-brewing-houston-pa/
CATEGORIES:Bar Show
END:VEVENT
BEGIN:VEVENT
DTSTART;TZID=America/New_York:20250503T200000
DTEND;TZID=America/New_York:20250503T220000
DTSTAMP:20260424T083731
CREATED:20250128T151638Z
LAST-MODIFIED:20250128T151638Z
UID:911-1746302400-1746309600@gracecampbellmusic.com
SUMMARY:Bridge Tavern in Wheeling
DESCRIPTION:The Bridge Tavern in Wheeling\, West Virginia is a great place to spend your Friday or Saturday night! On May 3rd\, Grace Campbell and a condensed band will be taking the stage following the Kentucky Derby Day! \nJoin them for good music\, good times\, and great food. https://www.bridgetavernandgrill.com/
URL:https://gracecampbellmusic.com/event/bridge-tavern-in-wheeling/
LOCATION:Bridge Tavern
CATEGORIES:Bar Show,Headlining Show
END:VEVENT
BEGIN:VEVENT
DTSTART;TZID=America/New_York:20250419T143000
DTEND;TZID=America/New_York:20250419T190000
DTSTAMP:20260424T083731
CREATED:20250225T203841Z
LAST-MODIFIED:20250225T203841Z
UID:987-1745073000-1745089200@gracecampbellmusic.com
SUMMARY:WV Beer Festival
DESCRIPTION:The 2nd Annual WV BeerFest is West Virginia’s Newest beer festival\, that not only celebrates the amazing Craft Beverages our state can produce\, but also will showcase the standards you have always loved. The 2025 event is our 2nd Annual Event and will be held at Mylan Park in Morgantown WV. WV BeerFest takes place on April 19\, 2025\, indoors at the Hazel & J.W. Ruby Community Center. We’ll be featuring 40+ breweries and 100+ beers\, ciders\, hard seltzers\, meads\, and more. \nWVBF will be your springtime go to for exclusive and rare beers\, one-offs\, and special beers you can’t find on store shelves. Since brewers never know when beers will be ready\, we will release the beer list about 1 week before the event. Grab your tickets now\, as this event WILL sell out in advance \nGrace Campbell and her band Good Company will be performing at the event. Get your tickets while you can! \n  \nhttps://wvbeerfest.com/entertainment/#grace
URL:https://gracecampbellmusic.com/event/wv-beer-festival/
CATEGORIES:Festival,Headlining Show
END:VEVENT
BEGIN:VEVENT
DTSTART;TZID=America/New_York:20250329T180000
DTEND;TZID=America/New_York:20250329T210000
DTSTAMP:20260424T083731
CREATED:20250221T205931Z
LAST-MODIFIED:20250221T205931Z
UID:973-1743271200-1743282000@gracecampbellmusic.com
SUMMARY:Folklore Music Exchange with Grace Campbell
DESCRIPTION:Grace Campbell goes to Charleston\, West Virginia to perform for Mountain State Music at Charleston’s infamous Folklore Music Exchange. \nNamed the 2024 Rising Star by Pittsburgh’s Women Who Rock \, and the 2024 Best Pop Artist in West Virginia. Grace has played reputable venues in Pittsburgh and WV such as Stage AE (opening up for Melissa Etheridge)\, Club Cafe (headlining)\, The Hard Rock Cafe (headlining)\, 123 Pleasant Street (headlining) and The Ruby Amphitheatre (opening for The Plain White T’s). In addition to numerous fairs\, festivals\, and private events on the east coast. \nSocial media:\nhttps://www.instagram.com/gracecampbellmusic/ \nWebsite:\nhttps://gracecampbellmusic.com \nSpotify link to 10-song album “Bloom”\nhttps://open.spotify.com/album/3G5ZHHZ3HSYwWAHYrIokMx?si=Ec1wGpFVRgmbmr1kW75cvg
URL:https://gracecampbellmusic.com/event/folklore-music-exchange-with-grace-campbell/
LOCATION:Folklore Music Exchange
CATEGORIES:Concert Series,Headlining Show
END:VEVENT
BEGIN:VEVENT
DTSTART;TZID=America/New_York:20250322T180000
DTEND;TZID=America/New_York:20250322T200000
DTSTAMP:20260424T083731
CREATED:20250225T203320Z
LAST-MODIFIED:20250225T203320Z
UID:984-1742666400-1742673600@gracecampbellmusic.com
SUMMARY:Major Stokes Restaurant & Bar
DESCRIPTION:Major Stokes believes high quality\, locally sourced products prepared fresh daily and offered at an affordable price is a responsible alternative to large batch cooking of frozen foods. \nGrace Campbell brings solo acoustic original songs to Major Stokes on March 22nd from 6pm to 8pm. Join her for a laid back evening of tunes.
URL:https://gracecampbellmusic.com/event/major-stokes-restaurant-bar/
CATEGORIES:Bar Show,Headlining Show
END:VEVENT
BEGIN:VEVENT
DTSTART;TZID=America/New_York:20250319T200000
DTEND;TZID=America/New_York:20250319T200000
DTSTAMP:20260424T083731
CREATED:20250319T205525Z
LAST-MODIFIED:20250319T205556Z
UID:1041-1742414400-1742414400@gracecampbellmusic.com
SUMMARY:REMEDY with Anthony Fonzi
DESCRIPTION:The venue space at REMEDY in Lawrenceville is an intimate 65-person capacity DIY space located on the 2nd floor of the venue. \nAnthony is touring from Denver\, Colorado to his hometown of Pittsburgh. Grace Campbell is joining the lineup. \nShow starts at 8pm\, $10.00 cover.
URL:https://gracecampbellmusic.com/event/remedy-with-anthony-fonzi/
CATEGORIES:Opening Spot
END:VEVENT
BEGIN:VEVENT
DTSTART;TZID=America/New_York:20250308T080000
DTEND;TZID=America/New_York:20250309T170000
DTSTAMP:20260424T083731
CREATED:20250107T205306Z
LAST-MODIFIED:20250107T205306Z
UID:859-1741420800-1741539600@gracecampbellmusic.com
SUMMARY:Grace Campbell The Purple Fiddle: 2 Day Feature
DESCRIPTION:Grace Campbell debuts at West Virginia’s famous venue: The Purple Fiddle in Thomas\, WV. This two day feature will be a solo performance at the start of tourism season by singer/songwriter Grace Campbell. \n  \nGrace Campbell
URL:https://gracecampbellmusic.com/event/grace-campbell-the-purple-fiddle-2-day-feature/
CATEGORIES:Headlining Show
END:VEVENT
BEGIN:VEVENT
DTSTART;TZID=America/New_York:20250215T170000
DTEND;TZID=America/New_York:20250215T180000
DTSTAMP:20260424T083731
CREATED:20250128T140009Z
LAST-MODIFIED:20250128T144902Z
UID:893-1739638800-1739642400@gracecampbellmusic.com
SUMMARY:Hard Rock Cafe Closing Event Pittsburgh
DESCRIPTION:Grace Campbell performs at The Hard Rock Cafe in Pittsburgh\, PA on Valentine’s Day as well as it’s last day open. Performing from 5pm to 6pm\, Grace plays original music fitting in genres like folk\, rock\, and pop. \nHailing from West Virginia\, Grace Campbell brings her unique charm to the music scene. Her captivating songwriting and magnetic personality have garnered her a dedicated fan base both locally and on social media. \nGrace has transcended the Appalachian region with her music. She continues to grow her regional fanbase through live appearances\, a strong social media presence\, and the genuine connection she makes with her audience. Her live appearances have included working with notable artists such as: Kathy Mattea\, Kidd G\, Avery Anna\, Philip Bowen\, Kassi Valazza\, The Plain White T’s\, and Melissa Etheridge. \nhttps://cafe.hardrock.com/
URL:https://gracecampbellmusic.com/event/hard-rock-cafe-closing-event-pittsburgh/
CATEGORIES:Headlining Show
END:VEVENT
BEGIN:VEVENT
DTSTART;TZID=America/New_York:20240928T163000
DTEND;TZID=America/New_York:20240928T173000
DTSTAMP:20260424T083731
CREATED:20240820T171356Z
LAST-MODIFIED:20240820T171356Z
UID:690-1727541000-1727544600@gracecampbellmusic.com
SUMMARY:Buckwheat Festival
DESCRIPTION:Grace Campbell & Good Company performing at The Preston County Buckwheat Festival on September 28th\, at 4:30pm. Followed by Alana Springsteen. \nThe Preston County Buckwheat Festival is a beloved annual event held in Kingwood\, West Virginia that celebrates the rich history and heritage of buckwheat farming in the area. \nIn the late summer of 1938\, members of the Kingwood Volunteer Fire Department hit upon the idea of sponsoring a sort of homecoming celebration to mark the autumn harvest of buckwheat\, a crop for which Preston County had already become famous. Within six weeks\, thanks to a lot of hard work by the volunteer firemen and the enthusiastic cooperation of various civic groups throughout the county\, the First Annual Preston County Buckwheat Festival took place. \nThe success of the festival created unusual interest throughout the state and led to an invitation the following summer for a group of Preston County buckwheat cake experts to visit the New York World’s Fair to bake the cakes as a feature of the West Virginia Day program. \nThe Buckwheat Festival has since grown into a five-day event that attracts tens of thousands of visitors each year. The festival is a gathering place for our community\, where we come together and enjoy a variety of activities\, including live music\, carnival rides\, parades\, arts and crafts\, and of course\, plenty of buckwheat cakes and sausage. We are proud to offer a family-friendly environment where everyone can create cherished memories and form lasting connections with one another. \nThe Preston County Buckwheat Festival is organized and sponsored by the Kingwood Volunteer Fire Department with the help of dedicated volunteers who work tirelessly to make each year’s festival a success. We are grateful for the support of our volunteers\, sponsors\, vendors\, and visitors who make it possible for us to continue this beloved tradition. \nWe hope to see you at the Preston County Buckwheat Festival which starts the last Thursday in September.
URL:https://gracecampbellmusic.com/event/buckwheat-festival/
END:VEVENT
BEGIN:VEVENT
DTSTART;TZID=America/New_York:20240915T140000
DTEND;TZID=America/New_York:20240915T150000
DTSTAMP:20260424T083731
CREATED:20240820T170828Z
LAST-MODIFIED:20240820T170828Z
UID:687-1726408800-1726412400@gracecampbellmusic.com
SUMMARY:Tamarack Fall Festival
DESCRIPTION:Get ready for an unforgettable celebration of fun\, fall vibes\, and fantastic performances. Fallfest is the perfect way to welcome the vibrant colors and crisp air of the fall season. We have a stellar lineup of musicians! Grab your friends and experience the magic of live music as we get ready for fall. This event is FREE!We’ve packed this event with an array of local music\, art\, food and beer! Plus activities for you and the kids to enhance your experience and make it a day to remember for the whole family. \n\n\n\n September 15 | 12 PM – 6:30 PM\n\n\nMORE INFO\nMUSIC LINEUP\n\nMain Stage\n12:30 – 1:15 : Carpenter Ants\n1:30 – 2:15 : Kindred Valley\n2:30 – 3:15 : Matt Mullins & The Bringdowns\n3:30 – 5 : Mike Glabicki of Rusted Root with Dirk Miller\n5:15 – 6:30 Kind Thieves \nCourtyard Stage\n12 – 1: Untrained Professionals\n1 – 2: Randy Gilkey\n2 – 3: Grace Campbell\n3 – 4: Samuel James\n4 – 5: Jonah Carden\n5 – 6: Andy Tuck \nARTIST DEMONSTRATIONS\n– Carol Dameron\, Coal Jewelry\n– Phil Peelish\, Wild Mountain Soap\n– Julie Gray- ornaments\, Jewelry\n– C.J. Schuyler\, Woodworker\n– Steve Lilly\, Jewelry\n– Gayle Rancer\, Jewelry\n– Angela Carpenter\, Uniquely Whimsical\n– Tina Anderson- Tina’s Custom Pens\n– Gaia Lena\, Jewelry\n– Chris Derenberger\, Cryocrave Freeze Dried Candy\n– Mathew & Tammi Hackworth\, Hackworth Wood & Steel\n– A.B. Creations\n– Ford Family Creations\n– L.A. Rustic Designs\n– Kim Smith- juried artisan \nLOCAL FOOD \n– Mad Concessions\, Paradise Treats\n– New River Slices\n– The Wing Hole\n– Fire & Ice\n– The WV Pickle Guy \nMORE FUN \n– Joey Stepp\, Magician & Funny Guy\n– Sara Persinger’s Carved Animals\n– Happy Little Faces Face Painting
URL:https://gracecampbellmusic.com/event/tamarack-fall-festival/
CATEGORIES:Festival
END:VEVENT
BEGIN:VEVENT
DTSTART;TZID=America/New_York:20240907T000000
DTEND;TZID=America/New_York:20240907T235959
DTSTAMP:20260424T083731
CREATED:20240820T165634Z
LAST-MODIFIED:20240820T165839Z
UID:683-1725667200-1725753599@gracecampbellmusic.com
SUMMARY:Culturefest - Grace Campbell
DESCRIPTION:  \n \nSept. 5-8\, 2024 marks the 21st annual Culturefest World Music & Arts Festival in Pipestem\, WV. With over 40 music & dance performances\, workshops\, kids activities\, healing arts\, camping & more\, it’s a party for the whole family! \nCome see Grace Campbell and Good Company perform on Saturday. \n  \n 
URL:https://gracecampbellmusic.com/event/culturefest-grace-campbell/
CATEGORIES:Festival
END:VEVENT
BEGIN:VEVENT
DTSTART;TZID=America/New_York:20240830T190000
DTEND;TZID=America/New_York:20240830T220000
DTSTAMP:20260424T083731
CREATED:20240617T140148Z
LAST-MODIFIED:20240617T140148Z
UID:622-1725044400-1725055200@gracecampbellmusic.com
SUMMARY:Plain White T's (Ruby Summer Concert Series)
DESCRIPTION:The City of Morgantown and the Hazel Ruby McQuain Charitable Trust proudly present the Ruby Summer Concert Series – free concerts every Friday night during the summer at Ruby Amphitheater. \nWe’re excited to feature legendary performers as well as local musicians in all genres of music\, from rock & roll to bluegrass\, country\, hip-hop and more! \nWe can’t wait for another summer of music at Ruby Amphitheater! \n  \nAug. 30\, 2024  |  6:30pm – 10:00pm  |  FREE SHOW \n7:00pm: Grace Campbell \n8:00pm: Plain White T’s \n*Time frames are tentative due to transitions of artists on stage
URL:https://gracecampbellmusic.com/event/plain-white-ts-ruby-summer-concert-series/
CATEGORIES:Concert Series,Opening Spot
ATTACH;FMTTYPE=image/jpeg:https://gracecampbellmusic.com/wp-content/uploads/2024/03/GC-Promo--e1718632898707.jpg
END:VEVENT
BEGIN:VEVENT
DTSTART;TZID=America/New_York:20240828T190000
DTEND;TZID=America/New_York:20240828T220000
DTSTAMP:20260424T083731
CREATED:20240820T165206Z
LAST-MODIFIED:20240820T165206Z
UID:679-1724871600-1724882400@gracecampbellmusic.com
SUMMARY:Melissa Etheridge -- Women Who Rock Concert
DESCRIPTION:Melissa Etheridge\n\n\n\n\n\n\n\n\n\nAugust 28th\, 2024\nLive @ Stage AE\nPittsburgh\, PA\nALL AGES\n\n\n\n\n\n\n\n\n\nDoors 6:30pm · Show 7:30pm\n\n\nVIP Ticket Happy Hour 6:30pm
URL:https://gracecampbellmusic.com/event/melissa-etheridge-women-who-rock-concert/
CATEGORIES:Opening Spot
END:VEVENT
BEGIN:VEVENT
DTSTART;TZID=America/New_York:20240726T183000
DTEND;TZID=America/New_York:20240726T220000
DTSTAMP:20260424T083731
CREATED:20240617T135413Z
LAST-MODIFIED:20240617T135413Z
UID:619-1722018600-1722031200@gracecampbellmusic.com
SUMMARY:Live On The Levee
DESCRIPTION:This free concert series is presented by Moses Auto Group and hosted by the City of Charleston. Grace Campbell and Good Company opening for Matt Mullins and The Bringdowns. \n 
URL:https://gracecampbellmusic.com/event/live-on-the-levee/
CATEGORIES:Festival,Opening Spot
END:VEVENT
BEGIN:VEVENT
DTSTART;TZID=America/New_York:20240713T123000
DTEND;TZID=America/New_York:20240713T140000
DTSTAMP:20260424T083731
CREATED:20240617T135010Z
LAST-MODIFIED:20240617T135010Z
UID:615-1720873800-1720879200@gracecampbellmusic.com
SUMMARY:New Deal Festival
DESCRIPTION:Join us for the 27th annual New Deal Festival on July 13\, 2024 from 10 AM – 10 PM\, celebrating the 90th anniversary of Arthurdale! As always we are looking forward to a day of fun for the whole family! We will have our craft show\, car show\, live music (including a special evening concert with Andrew Adkins)\, food trucks\, local craft beer\, contests\, petting zoo\, and more! Follow this website and save this event on our Facebook to stay updated on all the latest information! \n 
URL:https://gracecampbellmusic.com/event/new-deal-festival/
CATEGORIES:Festival
END:VEVENT
BEGIN:VEVENT
DTSTART;TZID=America/New_York:20240709T200000
DTEND;TZID=America/New_York:20240709T223000
DTSTAMP:20260424T083731
CREATED:20240617T133623Z
LAST-MODIFIED:20240617T133623Z
UID:610-1720555200-1720564200@gracecampbellmusic.com
SUMMARY:Battelle District Fair
DESCRIPTION:Admission to the 2024 Battelle District Fair is an all inclusive price of only $10.00 for patrons ages 2 and older. This price includes all rides and all the stage entertainment. 
URL:https://gracecampbellmusic.com/event/battelle-district-fair/
CATEGORIES:Festival,Headlining Show
END:VEVENT
BEGIN:VEVENT
DTSTART;TZID=America/New_York:20240629T073000
DTEND;TZID=America/New_York:20240629T203000
DTSTAMP:20260424T083731
CREATED:20240617T132821Z
LAST-MODIFIED:20240617T132821Z
UID:602-1719646200-1719693000@gracecampbellmusic.com
SUMMARY:Give A Dam About The Arts Festival
DESCRIPTION:Appalachian artist Grace Campbell\, featuring local guitarist Jake Ujhelyi\, will round out the event’s entertainment with a show beginning at 7:30 p.m. \nGive a Dam About the Arts Mega-Jam tickets will be offered at $30 per person or $50 for two. Children 12 and under will be admitted to the event for free. \nAll proceeds from the Give a Dam About the Arts Mega-Jam will go toward the restoration of Gallery 62 West in downtown Grafton. During the redevelopment process\, the second and third floors at Gallery 62 West will be addressed.
URL:https://gracecampbellmusic.com/event/give-a-dam-about-the-arts-festival/
LOCATION:Grafton City Park\, Grafton\, United States
CATEGORIES:Festival
END:VEVENT
END:VCALENDAR